BEGIN:VCALENDAR
VERSION:2.0
PRODID:-//Centre for Ecological Learning Luxembourg asbl - Transition Luxembourg - ECPv5.1.4//NONSGML v1.0//EN
CALSCALE:GREGORIAN
METHOD:PUBLISH
X-WR-CALNAME:Centre for Ecological Learning Luxembourg asbl - Transition Luxembourg
X-ORIGINAL-URL:https://www.cell.lu
X-WR-CALDESC:Events for Centre for Ecological Learning Luxembourg asbl - Transition Luxembourg
BEGIN:VTIMEZONE
TZID:Europe/Luxembourg
BEGIN:DAYLIGHT
TZOFFSETFROM:+0100
TZOFFSETTO:+0200
TZNAME:CEST
DTSTART:20190331T010000
END:DAYLIGHT
BEGIN:STANDARD
TZOFFSETFROM:+0200
TZOFFSETTO:+0100
TZNAME:CET
DTSTART:20191027T010000
END:STANDARD
END:VTIMEZONE
BEGIN:VEVENT
DTSTART;TZID=Europe/Luxembourg:20190508T170000
DTEND;TZID=Europe/Luxembourg:20190508T193000
DTSTAMP:20200817T061714
CREATED:20190305T120511Z
LAST-MODIFIED:20190503T075009Z
UID:23391-1557334800-1557343800@www.cell.lu
SUMMARY:Bourse aux plantes
DESCRIPTION:Bourse aux Plantes BIO édition 2019\nLa bourse aux plantes a dû s’adapter à toute vitesse et aura lieu\, bien qu’en version réduite\, sur le parvis des Rotondes. Dans l’espoir de vous y retrouver nombreuses et nombreux : À vos plantes\, prêts\, partez !\nTroc de plantes et de graines\nVente de semis\, de plants de fleurs et légumes\n08.05.2019 de 17h à 19h30\nsur le parvis des Rotondes\nPlace des Rotondes\nL-2448 Luxembourg-Bonnevoie \n
URL:https://www.cell.lu/event/bourse-aux-plantes/
LOCATION:Rotondes\, Place des Rotondes\, Luxembourg\, 2448\, Luxembourg
ORGANIZER;CN="CELL":MAILTO:info@cell.lu
END:VEVENT
END:VCALENDAR