BEGIN:VCALENDAR
VERSION:2.0
PRODID:-//Centre for Ecological Learning Luxembourg asbl - Transition Luxembourg - ECPv5.1.4//NONSGML v1.0//EN
CALSCALE:GREGORIAN
METHOD:PUBLISH
X-WR-CALNAME:Centre for Ecological Learning Luxembourg asbl - Transition Luxembourg
X-ORIGINAL-URL:https://www.cell.lu
X-WR-CALDESC:Events for Centre for Ecological Learning Luxembourg asbl - Transition Luxembourg
BEGIN:VTIMEZONE
TZID:Europe/Luxembourg
BEGIN:DAYLIGHT
TZOFFSETFROM:+0100
TZOFFSETTO:+0200
TZNAME:CEST
DTSTART:20190331T010000
END:DAYLIGHT
BEGIN:STANDARD
TZOFFSETFROM:+0200
TZOFFSETTO:+0100
TZNAME:CET
DTSTART:20191027T010000
END:STANDARD
END:VTIMEZONE
BEGIN:VEVENT
DTSTART;TZID=Europe/Luxembourg:20190520T190000
DTEND;TZID=Europe/Luxembourg:20190520T190000
DTSTAMP:20200817T070440
CREATED:20190321T100051Z
LAST-MODIFIED:20190321T100051Z
UID:23494-1558378800-1558378800@www.cell.lu
SUMMARY:Réunion mensuelle des amis de MESA
DESCRIPTION:Envie de participer à la maison de la transition ? Cette soirée est pour vous ! \n
URL:https://www.cell.lu/event/reunion-mensuelle-des-amis-de-mesa-2-2-2/
LOCATION:Mesa\, 1\, rue de Moulin\, Esch-sur-Alzette\, L-4251\, Luxembourg
END:VEVENT
END:VCALENDAR