BEGIN:VCALENDAR
VERSION:2.0
PRODID:-//Centre for Ecological Learning Luxembourg asbl - Transition Luxembourg - ECPv5.1.4//NONSGML v1.0//EN
CALSCALE:GREGORIAN
METHOD:PUBLISH
X-WR-CALNAME:Centre for Ecological Learning Luxembourg asbl - Transition Luxembourg
X-ORIGINAL-URL:https://www.cell.lu
X-WR-CALDESC:Events for Centre for Ecological Learning Luxembourg asbl - Transition Luxembourg
BEGIN:VTIMEZONE
TZID:Europe/Luxembourg
BEGIN:DAYLIGHT
TZOFFSETFROM:+0100
TZOFFSETTO:+0200
TZNAME:CEST
DTSTART:20190331T010000
END:DAYLIGHT
BEGIN:STANDARD
TZOFFSETFROM:+0200
TZOFFSETTO:+0100
TZNAME:CET
DTSTART:20191027T010000
END:STANDARD
END:VTIMEZONE
BEGIN:VEVENT
DTSTART;TZID=Europe/Luxembourg:20190612T190000
DTEND;TZID=Europe/Luxembourg:20190612T210000
DTSTAMP:20200817T055507
CREATED:20190423T145947Z
LAST-MODIFIED:20190423T145947Z
UID:23562-1560366000-1560373200@www.cell.lu
SUMMARY:Transitioun Uelzechtdall Treffen
DESCRIPTION:Monatlecht Treffen vum lokalen Grupp Transitioun Uelzechtdall fir sech iwwer déi laafend Projeten auszetauschen. Jiddereen ass wëllkomm! \n
URL:https://www.cell.lu/event/transition-nord-treffen-3-2-2-2-2/
ORGANIZER;CN="Tranistioun%20Uelzechtdall":MAILTO:transitioun-uelzechtdall@cell.lu
END:VEVENT
END:VCALENDAR